{"text_format":"1","workbook":"xlsx","n_sheets":4,"sheets":["入力画面","申請書","許可書 ・通知書","料金表"],"not_rendered":{"charts":0,"images":0,"macros":1,"external_links":0,"defined_names":2,"comments":0,"pivot_tables":0},"unopened":[],"bounds":{"document_bytes":16777216,"sheet_cells":100000,"rows_first":2000,"rows_last":500,"rows_between":2000,"halvings":0,"cell_chars":16384,"cell_head_chars":4096},"cells_cut":0,"cells_raw":0,"read":"whole","date_system":"1900"}

{"sheet":"入力画面","index":0,"n_rows":50,"n_cols":16,"rows_kept":50,"cut":false,"hidden":false,"merged":[[13,13,13,14],[14,13,14,14],[0,0,1,14],[5,0,8,0],[5,1,5,4],[5,5,5,14],[6,1,6,4],[6,5,6,8],[6,9,6,10],[6,11,6,14],[7,1,7,4],[7,5,7,8],[2,10,2,14],[7,9,7,10],[7,11,7,14],[8,1,8,4],[8,5,8,8],[8,9,8,10],[8,11,8,14],[12,0,12,1],[12,2,12,8],[12,9,12,10],[12,11,12,13],[13,0,14,1],[13,8,13,10],[13,4,13,7],[13,2,13,3],[14,8,14,10],[14,4,14,7],[14,2,14,3],[25,4,25,7],[25,10,25,14],[18,10,18,14],[19,4,19,7],[19,10,19,14],[20,4,20,7],[20,10,20,14],[21,4,21,7],[21,8,25,8],[21,10,21,14],[22,4,22,7],[15,8,20,8],[15,10,15,14],[16,4,16,7],[16,10,16,14],[17,4,17,7],[22,10,22,14],[23,4,23,7],[23,10,23,14],[24,4,24,7],[24,10,24,14],[26,4,26,7],[26,8,27,14],[27,4,27,7],[28,0,32,1],[28,3,28,6],[28,8,28,10],[28,12,28,14],[29,3,29,6],[29,8,29,10],[29,12,29,14],[20,2,27,2],[15,0,27,1],[15,2,19,2],[15,4,15,7],[17,10,17,14],[18,4,18,7],[30,3,30,6],[30,8,30,10],[30,12,30,14],[31,3,31,6],[31,8,31,10],[31,12,31,14],[32,3,32,6],[32,8,32,10],[32,11,32,14],[33,0,36,1],[33,2,34,4],[33,5,34,14],[35,2,36,4],[35,5,36,14],[37,0,41,1],[37,2,37,4],[37,5,37,6],[37,7,37,11],[37,12,37,14],[38,2,41,4],[38,5,41,6],[38,7,41,9],[38,10,41,11],[38,12,41,14],[49,0,49,14],[42,0,44,1],[42,2,44,14],[45,0,45,14],[46,0,46,14],[47,0,47,14],[48,0,48,14]]}
["釧路町コミュニティ施設使用申請書"]
[]
[null,null,null,null,null,null,null,null,null,null,"2023-09-01"]
["釧　路　町　長　様"]
[]
["※申請者","住　　　　所",null,null,null,"北海道釧路郡釧路町別保1丁目1番地"]
[null,"団　 体　 名",null,null,null,"釧路町役場住民課",null,null,null,"連　絡　先",null,"0154-62-2121"]
[null,"代 　表　 者",null,null,null,"町民　太郎",null,null,null,"使用責任者\n（火気責任者）",null,"町民　太郎"]
[null,"申請書提出者",null,null,null,"町民　太郎",null,null,null,"連　絡　先",null,"0154-62-2121"]
[]
["下記のとおり申請します。"]
[]
["※使用\n　目的",null,"町内会総会",null,null,null,null,null,null,"　　営 利 目 的\n　　非営利目的",null,"集合見\n込人数",null,null,30]
["※使用\n　日時",null,"自",null,"2023-09-01",null,null,null,"09:00:00",null,null,"から"]
[null,null,"至",null,"2023-09-01",null,null,null,"13:00:00",null,null,"まで",null,4,null,"※利用日数が複数日となる場合は、備考欄に日付を記載してください。"]
["※ 使用施設名",null,"別保地区",null,"別保コミュニティセンター",null,null,null,"遠矢地区",null,"河畔地区会館"]
[null,null,null,null,"天寧コミュニティセンター",null,null,null,null,null,"鳥通地区会館"]
[null,null,null,null,"日の出会館",null,null,null,null,null,"柏地区会館"]
[null,null,null,null,"栄町団地集会所",null,null,null,null,null,"床丹地区会館"]
[null,null,null,null,"双河辺生活館",null,null,null,null,null,"とおや交流館108"]
[null,null,"セチリ地区",null,"釧路町コミュニティセンター",null,null,null,null,null,"東遠野ふれあいセンター"]
[null,null,null,null,"桂地区会館",null,null,null,"昆布森地区",null,"昆布森福祉センター"]
[null,null,null,null,"国誉地区会館",null,null,null,null,null,"老者舞地区会館"]
[null,null,null,null,"北見団地地区会館",null,null,null,null,null,"海鳴り仙鳳趾館"]
[null,null,null,null,"曙地区会館",null,null,null,null,null,"釧路町漁民センター"]
[null,null,null,null,"北都地区会館",null,null,null,null,null,"知方学生活改善センター"]
[null,null,null,null,"誉会館"]
[null,null,null,null,"富原大通会館"]
["※使用室名",null,null,"大会 議室（コミュニティホール）",null,null,null,null,"ステージ",null,null,null,"作業室"]
[null,null,null,"小会 議室（A・B）",null,null,null,null,"談話室",null,null,null,"その他"]
[null,null,null,"研  修  室（A・B・C）",null,null,null,null,"調理（実習）室",null,null,null,"（　　      　　）"]
[null,null,null,"和       室（A・B）",null,null,null,null,"婦人研修室",null,null,null,"全館"]
[null,null,null,"集  会  室（A・B）",null,null,null,null,"老人室"]
["※使用\n   備品",null,"物　　品",null,null,"机　脚・椅子　脚・放送設備・その他（　　　）"]
[]
[null,null,"体育用具",null,null,"バレー用具・バドミントン用具・卓球用具・その他（　　　）"]
[]
["使用料金",null,"大会議室・集会室",null,null,"和室・研修室",null,"その他（小会議室・調理室等）",null,null,null,null,"合計"]
[]
[]
[]
[]
["備考"]
[]
[]
["１．※のみ記入すること"]
["２．使用施設、使用室名は、□の中に✓すること。"]
["３．免除団体については、正式名称を記入すること。"]
["４．夏季料金期間：6月1日～9月30日/冬季期間料金：10月1日～5月31日"]
["５．使用室名については１・２又は大・小はABC順とする。"]

{"sheet":"申請書","index":1,"n_rows":51,"n_cols":21,"rows_kept":51,"cut":false,"hidden":false,"merged":[[47,0,47,14],[48,0,48,14],[49,0,49,14],[50,0,50,14],[16,2,20,2],[21,2,28,2],[16,8,21,8],[22,8,26,8],[27,8,28,14],[46,0,46,14],[43,2,45,14],[38,2,38,4],[38,5,38,6],[38,7,38,11],[27,4,27,7],[28,4,28,7],[39,2,42,4],[39,5,42,6],[39,7,42,9],[39,10,42,11],[38,12,38,14],[39,12,42,14],[30,8,30,10],[31,8,31,10],[32,8,32,10],[33,8,33,10],[29,12,29,14],[30,12,30,14],[31,12,31,14],[32,12,32,14],[33,11,33,14],[24,10,24,14],[25,10,25,14],[26,10,26,14],[29,3,29,6],[29,8,29,10],[25,4,25,7],[26,4,26,7],[24,4,24,7],[16,10,16,14],[17,10,17,14],[18,10,18,14],[19,10,19,14],[20,10,20,14],[22,10,22,14],[23,10,23,14],[19,4,19,7],[20,4,20,7],[21,4,21,7],[22,4,22,7],[23,4,23,7],[21,10,21,14],[38,0,42,1],[43,0,45,1],[0,0,1,14],[8,1,8,4],[7,1,7,4],[6,1,6,4],[5,1,5,4],[6,5,6,8],[7,5,7,8],[8,5,8,8],[34,2,35,4],[34,5,35,14],[36,5,37,14],[29,0,33,1],[30,3,30,6],[16,0,28,1],[34,0,37,1],[36,2,37,4],[16,4,16,7],[17,4,17,7],[18,4,18,7],[32,3,32,6],[33,3,33,6],[31,3,31,6],[5,0,8,0],[8,9,8,10],[8,11,8,14],[5,5,5,14],[7,11,7,14],[6,11,6,14],[7,9,7,10],[6,9,6,10],[2,10,2,14],[14,2,14,3],[14,4,14,7],[14,8,14,10],[14,13,14,14],[12,0,13,1],[12,2,13,8],[12,11,13,13],[12,14,13,14],[15,2,15,3],[15,4,15,7],[15,8,15,10],[15,13,15,14],[14,0,15,1]]}
["釧路町コミュニティ施設使用申請書"]
[]
[null,null,null,null,null,null,null,null,null,null,"2023-09-01"]
["釧　路　町　長　様"]
[]
["※申請者","住　　　　所",null,null,null,{"$f":"入力画面!F6","v":"北海道釧路郡釧路町別保1丁目1番地"}]
[null,"団　 体　 名",null,null,null,{"$f":"入力画面!F7","v":"釧路町役場住民課"},null,null,null,"連　絡　先",null,{"$f":"入力画面!L7","v":"0154-62-2121"}]
[null,"代 　表　 者",null,null,null,{"$f":"入力画面!F8","v":"町民　太郎"},null,null,null,"使用責任者\n（火気責任者）",null,{"$f":"入力画面!L8","v":"町民　太郎"}]
[null,"申請書提出者",null,null,null,{"$f":"入力画面!F9","v":"町民　太郎"},null,null,null,"連　絡　先",null,{"$f":"入力画面!L9","v":"0154-62-2121"}]
[]
["下記のとおり申請します。"]
[]
["※使用\n　目的",null,{"$f":"入力画面!C13","v":"町内会総会"},null,null,null,null,null,null,{"$f":"IF(Q13=TRUE,\"■\",\"□\")","v":"□"},"営利目的","集合見\n込人数",null,null,{"$f":"入力画面!O13","v":30},"営利目的",false]
[null,null,null,null,null,null,null,null,null,{"$f":"IF(Q14=TRUE,\"■\",\"□\")","v":"□"},"非営利目的",null,null,null,null,"非営利目的",false]
["※使用\n　日時",null,"自",null,{"$f":"入力画面!E14","v":"2023-09-01"},null,null,null,{"$f":"入力画面!I14","v":"09:00:00"},null,null,"から"]
[null,null,"至",null,{"$f":"入力画面!E15","v":"2023-09-01"},null,null,null,{"$f":"入力画面!I15","v":"13:00:00"},null,null,"まで",null,{"$f":"入力画面!N15","v":4}]
["※ 使用施設名",null,"別保地区",{"$f":"IF(Q17=TRUE,\"■\",\"□\")","v":"□"},"別保コミュニティセンター",null,null,null,"遠矢地区",{"$f":"IF(S17=TRUE,\"■\",\"□\")","v":"□"},"河畔地区会館",null,null,null,null,"別保コミュニティセンター",false,"河畔地区会館",false]
[null,null,null,{"$f":"IF(Q18=TRUE,\"■\",\"□\")","v":"□"},"天寧コミュニティセンター",null,null,null,null,{"$f":"IF(S18=TRUE,\"■\",\"□\")","v":"□"},"鳥通地区会館",null,null,null,null,"天寧コミュニティセンター",false,"鳥通地区会館",false]
[null,null,null,"□","日の出会館",null,null,null,null,"□","柏地区会館",null,null,null,null,"日の出会館",false,"柏地区会館",false]
[null,null,null,"□","栄町団地集会所",null,null,null,null,"□","床丹地区会館",null,null,null,null,"栄町団地集会所",false,"床丹地区会館",false]
[null,null,null,"□","双河辺生活館",null,null,null,null,"□","とおや交流館108",null,null,null,null,"双河辺生活館",false,"とおや交流館108",false]
[null,null,"セチリ地区","□","釧路町コミュニティセンター",null,null,null,null,"□","東遠野ふれあいセンター",null,null,null,null,"釧路町コミュニティセンター",false,"東遠野ふれあいセンター",false]
[null,null,null,"□","桂地区会館",null,null,null,"昆布森地区","□","昆布森福祉センター",null,null,null,null,"桂地区会館",false,"昆布森福祉センター",false]
[null,null,null,"□","国誉地区会館",null,null,null,null,"□","老者舞地区会館",null,null,null,null,"国誉地区会館",false,"老者舞地区会館",false]
[null,null,null,"□","北見団地地区会館",null,null,null,null,"□","海鳴り仙鳳趾館",null,null,null,null,"北見団地地区会館",false,"海鳴り仙鳳趾館",false]
[null,null,null,"□","曙地区会館",null,null,null,null,"□","釧路町漁民センター",null,null,null,null,"曙地区会館",false,"釧路町漁民センター",false]
[null,null,null,"□","北都地区会館",null,null,null,null,"□","知方学生活改善センター",null,null,null,null,"北都地区会館",false,"知方学生活改善センター",false]
[null,null,null,"□","誉会館",null,null,null,null,null,null,null,null,null,null,"誉会館",false]
[null,null,null,"□","富原大通会館",null,null,null,null,null,null,null,null,null,null,"富原大通会館",false]
["※使用室名",null,{"$f":"IF(Q30=TRUE,\"■\",\"□\")","v":"□"},"大会 議室（コミュニティホール）",null,null,null,{"$f":"IF(S30=TRUE,\"■\",\"□\")","v":"□"},"ステージ",null,null,{"$f":"IF(U30=TRUE,\"■\",\"□\")","v":"□"},"作業室",null,null,"大会 議室（コミュニティホール）",false,"ステージ",false,"作業室",false]
[null,null,{"$f":"IF(Q31=TRUE,\"■\",\"□\")","v":"□"},"小会 議室（A・B）",null,null,null,{"$f":"IF(S31=TRUE,\"■\",\"□\")","v":"□"},"談話室",null,null,{"$f":"IF(U31=TRUE,\"■\",\"□\")","v":"□"},"その他",null,null,"小会 議室（A・B）",false,"談話室",false,"その他",false]
[null,null,"□","研  修  室（A・B・C）",null,null,null,"□","調理（実習）室",null,null,null,{"$f":"入力画面!M31","v":"（　　      　　）"},null,null,"研  修  室（A・B・C）",false,"調理（実習）室",false]
[null,null,"□","和       室（A・B）",null,null,null,"□","婦人研修室",null,null,"□","全館",null,null,"和       室（A・B）",false,"婦人研修室",false,"全館",false]
[null,null,"□","集  会  室（A・B）",null,null,null,"□","老人室",null,null,null,null,null,null,"集  会  室（A・B）",false,"老人室",false]
["※使用\n   備品",null,"物　　品",null,null,{"$f":"入力画面!F34","v":"机　脚・椅子　脚・放送設備・その他（　　　）"}]
[]
[null,null,"体育用具",null,null,{"$f":"入力画面!F36","v":"バレー用具・バドミントン用具・卓球用具・その他（　　　）"}]
[]
["使用料金",null,"大会議室・集会室",null,null,"和室・研修室",null,"その他（小会議室・調理室等）",null,null,null,null,"合計"]
[]
[]
[]
[]
["備考",null,{"$f":"入力画面!C43","v":0}]
[]
[]
["１．※のみ記入すること"]
["２．使用施設、使用室名は、□の中に✓すること。"]
["３．免除団体については、正式名称を記入すること。"]
["４．夏季料金期間：6月1日～9月30日/冬季期間料金：10月1日～5月31日"]
["５．使用室名については１・２又は大・小はABC順とする。"]

{"sheet":"許可書 ・通知書","index":2,"n_rows":95,"n_cols":15,"rows_kept":95,"cut":false,"hidden":false,"merged":[[7,1,7,4],[7,5,7,8],[7,9,7,10],[7,11,7,14],[8,1,8,4],[8,5,8,8],[8,9,8,10],[8,11,8,14],[0,0,1,14],[2,10,2,14],[3,9,4,14],[5,0,8,0],[5,1,5,4],[5,5,5,14],[6,1,6,4],[6,5,6,8],[6,9,6,10],[6,11,6,14],[16,0,28,1],[16,2,20,2],[16,4,16,7],[16,8,21,8],[16,10,16,14],[17,4,17,7],[17,10,17,14],[12,0,13,1],[12,2,13,8],[12,11,13,13],[12,14,13,14],[14,0,15,1],[14,2,14,3],[14,4,14,7],[14,8,14,10],[14,13,14,14],[15,2,15,3],[18,4,18,7],[18,10,18,14],[19,4,19,7],[19,10,19,14],[20,4,20,7],[20,10,20,14],[15,4,15,7],[15,8,15,10],[15,13,15,14],[25,4,25,7],[25,10,25,14],[26,4,26,7],[26,10,26,14],[27,4,27,7],[27,8,28,14],[28,4,28,7],[21,2,28,2],[21,4,21,7],[21,10,21,14],[22,4,22,7],[22,8,26,8],[22,10,22,14],[23,4,23,7],[23,10,23,14],[24,4,24,7],[24,10,24,14],[32,3,32,6],[32,8,32,10],[32,12,32,14],[33,3,33,6],[33,8,33,10],[33,11,33,14],[29,0,33,1],[29,3,29,6],[29,8,29,10],[29,12,29,14],[30,3,30,6],[30,8,30,10],[30,12,30,14],[31,3,31,6],[31,8,31,10],[31,12,31,14],[39,2,42,4],[39,5,42,6],[39,7,42,9],[39,10,42,11],[39,12,42,14],[43,0,45,1],[43,2,45,14],[34,0,37,1],[34,2,35,4],[34,5,35,14],[36,2,37,4],[36,5,37,14],[38,0,42,1],[38,2,38,4],[38,5,38,6],[38,7,38,11],[38,12,38,14],[56,0,59,0],[56,1,56,4],[56,5,56,14],[57,1,57,4],[57,5,57,8],[57,9,57,10],[57,11,57,14],[58,1,58,4],[46,0,46,14],[47,0,47,14],[48,0,48,14],[49,0,49,14],[50,0,50,14],[51,0,52,14],[58,5,58,8],[58,9,58,10],[58,11,58,14],[59,1,59,4],[59,5,59,8],[59,9,59,10],[59,11,59,14],[53,10,53,14],[54,9,55,14],[67,0,79,1],[67,2,71,2],[67,4,67,7],[67,8,72,8],[67,10,67,14],[68,4,68,7],[68,10,68,14],[63,0,64,1],[63,2,64,8],[63,11,64,13],[63,14,64,14],[65,0,66,1],[65,2,65,3],[65,4,65,7],[65,8,65,10],[65,13,65,14],[66,2,66,3],[69,4,69,7],[69,10,69,14],[70,4,70,7],[70,10,70,14],[71,4,71,7],[71,10,71,14],[66,4,66,7],[66,8,66,10],[66,13,66,14],[76,4,76,7],[76,10,76,14],[77,4,77,7],[77,10,77,14],[78,4,78,7],[78,8,79,14],[79,4,79,7],[72,2,79,2],[72,4,72,7],[72,10,72,14],[73,4,73,7],[73,8,77,8],[73,10,73,14],[74,4,74,7],[74,10,74,14],[75,4,75,7],[75,10,75,14],[83,3,83,6],[83,8,83,10],[83,12,83,14],[84,3,84,6],[84,8,84,10],[84,11,84,14],[80,0,84,1],[80,3,80,6],[80,8,80,10],[80,12,80,14],[81,3,81,6],[81,8,81,10],[81,12,81,14],[82,3,82,6],[82,8,82,10],[82,12,82,14],[85,0,88,1],[85,2,86,4],[85,5,86,14],[87,2,88,4],[87,5,88,14],[89,0,93,1],[89,2,89,4],[89,5,89,6],[89,7,89,11],[89,12,89,14],[97,0,97,14],[98,0,98,14],[99,0,99,14],[100,0,100,14],[101,0,101,14],[90,2,93,4],[90,5,93,6],[90,7,93,9],[90,10,93,11],[90,12,93,14],[94,0,96,1],[94,2,96,14]]}
["釧路町コミュニティ施設使用許可書"]
[]
[null,null,null,null,null,null,null,null,null,null,{"$f":"入力画面!K3","v":"2023-09-01"}]
[null,null,null,null,null,null,null,null,null,"　　　釧 路 町 長　"]
[]
["※申請者","住　　　　所",null,null,null,{"$f":"入力画面!F6","v":"北海道釧路郡釧路町別保1丁目1番地"}]
[null,"団　 体　 名",null,null,null,{"$f":"入力画面!F7","v":"釧路町役場住民課"},null,null,null,"連　絡　先",null,{"$f":"入力画面!L7","v":"0154-62-2121"}]
[null,"代　 表　 者",null,null,null,{"$f":"入力画面!F8","v":"町民　太郎"},null,null,null,"使用責任者\n（火気責任者）",null,{"$f":"入力画面!L8","v":"町民　太郎"}]
[null,"申請書提出者",null,null,null,{"$f":"入力画面!F9","v":"町民　太郎"},null,null,null,"連　絡　先",null,{"$f":"入力画面!L9","v":"0154-62-2121"}]
[]
[]
[]
["※使用\n　目的",null,{"$f":"入力画面!C13","v":"町内会総会"},null,null,null,null,null,null,{"$f":"IF(申請書!Q13=TRUE,\"■\",\"□\")","v":"□"},"営利目的","集合見\n込人数",null,null,{"$f":"入力画面!O13","v":30}]
[null,null,null,null,null,null,null,null,null,{"$f":"IF(申請書!Q14=TRUE,\"■\",\"□\")","v":"□"},"非営利目的"]
["※使用\n　日時",null,"自",null,{"$f":"入力画面!E14","v":"2023-09-01"},null,null,null,{"$f":"入力画面!I14","v":"09:00:00"},null,null,"から"]
[null,null,"至",null,{"$f":"入力画面!E15","v":"2023-09-01"},null,null,null,{"$f":"入力画面!I15","v":"13:00:00"},null,null,"まで",null,{"$f":"入力画面!N15","v":4}]
["※ 使用施設名",null,"別保地区",{"$f":"IF(申請書!Q17=TRUE,\"■\",\"□\")","v":"□"},"別保コミュニティセンター",null,null,null,"遠矢地区",{"$f":"IF(申請書!S17=TRUE,\"■\",\"□\")","v":"□"},"河畔地区会館"]
[null,null,null,{"$f":"IF(申請書!Q18=TRUE,\"■\",\"□\")","v":"□"},"天寧コミュニティセンター",null,null,null,null,{"$f":"IF(申請書!S18=TRUE,\"■\",\"□\")","v":"□"},"鳥通地区会館"]
[null,null,null,{"$f":"IF(申請書!Q19=TRUE,\"■\",\"□\")","v":"□"},"日の出会館",null,null,null,null,{"$f":"IF(申請書!S19=TRUE,\"■\",\"□\")","v":"□"},"柏地区会館"]
[null,null,null,{"$f":"IF(申請書!Q20=TRUE,\"■\",\"□\")","v":"□"},"栄町団地集会所",null,null,null,null,{"$f":"IF(申請書!S20=TRUE,\"■\",\"□\")","v":"□"},"床丹地区会館"]
[null,null,null,{"$f":"IF(申請書!Q21=TRUE,\"■\",\"□\")","v":"□"},"双河辺生活館",null,null,null,null,{"$f":"IF(申請書!S21=TRUE,\"■\",\"□\")","v":"□"},"とおや交流館108"]
[null,null,"セチリ地区",{"$f":"IF(申請書!Q22=TRUE,\"■\",\"□\")","v":"□"},"釧路町コミュニティセンター",null,null,null,null,{"$f":"IF(申請書!S22=TRUE,\"■\",\"□\")","v":"□"},"東遠野ふれあいセンター"]
[null,null,null,{"$f":"IF(申請書!Q23=TRUE,\"■\",\"□\")","v":"□"},"桂地区会館",null,null,null,"昆布森地区",{"$f":"IF(申請書!S23=TRUE,\"■\",\"□\")","v":"□"},"昆布森福祉センター"]
[null,null,null,{"$f":"IF(申請書!Q24=TRUE,\"■\",\"□\")","v":"□"},"国誉地区会館",null,null,null,null,{"$f":"IF(申請書!S24=TRUE,\"■\",\"□\")","v":"□"},"老者舞地区会館"]
[null,null,null,{"$f":"IF(申請書!Q25=TRUE,\"■\",\"□\")","v":"□"},"北見団地地区会館",null,null,null,null,{"$f":"IF(申請書!S25=TRUE,\"■\",\"□\")","v":"□"},"海鳴り仙鳳趾館"]
[null,null,null,{"$f":"IF(申請書!Q26=TRUE,\"■\",\"□\")","v":"□"},"曙地区会館",null,null,null,null,{"$f":"IF(申請書!S26=TRUE,\"■\",\"□\")","v":"□"},"釧路町漁民センター"]
[null,null,null,{"$f":"IF(申請書!Q27=TRUE,\"■\",\"□\")","v":"□"},"北都地区会館",null,null,null,null,{"$f":"IF(申請書!S27=TRUE,\"■\",\"□\")","v":"□"},"知方学生活改善センター"]
[null,null,null,{"$f":"IF(申請書!Q28=TRUE,\"■\",\"□\")","v":"□"},"誉会館"]
[null,null,null,{"$f":"IF(申請書!Q29=TRUE,\"■\",\"□\")","v":"□"},"富原大通会館"]
["※使用室名",null,{"$f":"IF(申請書!Q30=TRUE,\"■\",\"□\")","v":"□"},"大会 議室（コミュニティホール）",null,null,null,{"$f":"IF(申請書!S30=TRUE,\"■\",\"□\")","v":"□"},"ステージ",null,null,{"$f":"IF(申請書!U30=TRUE,\"■\",\"□\")","v":"□"},"作業室"]
[null,null,{"$f":"IF(申請書!Q31=TRUE,\"■\",\"□\")","v":"□"},"小会 議室（A・B）",null,null,null,{"$f":"IF(申請書!S31=TRUE,\"■\",\"□\")","v":"□"},"談話室",null,null,{"$f":"IF(申請書!U31=TRUE,\"■\",\"□\")","v":"□"},"その他"]
[null,null,{"$f":"IF(申請書!Q32=TRUE,\"■\",\"□\")","v":"□"},"研  修  室（A・B・C）",null,null,null,{"$f":"IF(申請書!S32=TRUE,\"■\",\"□\")","v":"□"},"調理（実習）室",null,null,null,{"$f":"入力画面!M31","v":"（　　      　　）"}]
[null,null,{"$f":"IF(申請書!Q33=TRUE,\"■\",\"□\")","v":"□"},"和       室（A・B）",null,null,null,{"$f":"IF(申請書!S33=TRUE,\"■\",\"□\")","v":"□"},"婦人研修室",null,null,{"$f":"IF(申請書!U33=TRUE,\"■\",\"□\")","v":"□"},"全館"]
[null,null,{"$f":"IF(申請書!Q34=TRUE,\"■\",\"□\")","v":"□"},"集  会  室（A・B）",null,null,null,{"$f":"IF(申請書!S34=TRUE,\"■\",\"□\")","v":"□"},"老人室"]
["※使用\n   備品",null,"物　　品",null,null,{"$f":"入力画面!F34","v":"机　脚・椅子　脚・放送設備・その他（　　　）"}]
[]
[null,null,"体育用具",null,null,{"$f":"入力画面!F36","v":"バレー用具・バドミントン用具・卓球用具・その他（　　　）"}]
[]
["使用料金",null,"大会議室・集会室",null,null,"和室・研修室",null,"その他（小会議室・調理室等）",null,null,null,null,"合計"]
[]
[]
[]
[]
["備考",null,{"$f":"入力画面!C43","v":0}]
[]
[]
[]
[]
[]
[]
[]
["釧路町コミュニティ施設使用通知書（管理人用）"]
[]
[null,null,null,null,null,null,null,null,null,null,{"$f":"入力画面!K3","v":"2023-09-01"}]
[null,null,null,null,null,null,null,null,null,"　　　釧 路 町 長　"]
[]
["※申請者","住　　　　所",null,null,null,{"$f":"入力画面!F6","v":"北海道釧路郡釧路町別保1丁目1番地"}]
[null,"団　 体　 名",null,null,null,{"$f":"入力画面!F7","v":"釧路町役場住民課"},null,null,null,"連　絡　先",null,{"$f":"入力画面!L7","v":"0154-62-2121"}]
[null,"代　 表　 者",null,null,null,{"$f":"入力画面!F8","v":"町民　太郎"},null,null,null,"使用責任者\n（火気責任者）",null,{"$f":"入力画面!L8","v":"町民　太郎"}]
[null,"申請書提出者",null,null,null,{"$f":"入力画面!F9","v":"町民　太郎"},null,null,null,"連　絡　先",null,{"$f":"入力画面!L9","v":"0154-62-2121"}]
[]
["下記のとおり許可しましたので通知します。"]
[]
["※使用\n　目的",null,{"$f":"入力画面!C13","v":"町内会総会"},null,null,null,null,null,null,{"$f":"IF(申請書!Q13=TRUE,\"■\",\"□\")","v":"□"},"営利目的","集合見\n込人数",null,null,{"$f":"入力画面!O13","v":30}]
[null,null,null,null,null,null,null,null,null,{"$f":"IF(申請書!Q14=TRUE,\"■\",\"□\")","v":"□"},"非営利目的"]
["※使用\n　日時",null,"自",null,{"$f":"入力画面!E14","v":"2023-09-01"},null,null,null,{"$f":"入力画面!I14","v":"09:00:00"},null,null,"から"]
[null,null,"至",null,{"$f":"入力画面!E15","v":"2023-09-01"},null,null,null,{"$f":"入力画面!I15","v":"13:00:00"},null,null,"まで",null,{"$f":"入力画面!N15","v":4}]
["※ 使用施設名",null,"別保地区",{"$f":"IF(申請書!Q17=TRUE,\"■\",\"□\")","v":"□"},"別保コミュニティセンター",null,null,null,"遠矢地区",{"$f":"IF(申請書!S17=TRUE,\"■\",\"□\")","v":"□"},"河畔地区会館"]
[null,null,null,{"$f":"IF(申請書!Q18=TRUE,\"■\",\"□\")","v":"□"},"天寧コミュニティセンター",null,null,null,null,{"$f":"IF(申請書!S18=TRUE,\"■\",\"□\")","v":"□"},"鳥通地区会館"]
[null,null,null,{"$f":"IF(申請書!Q19=TRUE,\"■\",\"□\")","v":"□"},"日の出会館",null,null,null,null,{"$f":"IF(申請書!S19=TRUE,\"■\",\"□\")","v":"□"},"柏地区会館"]
[null,null,null,{"$f":"IF(申請書!Q20=TRUE,\"■\",\"□\")","v":"□"},"栄町団地集会所",null,null,null,null,{"$f":"IF(申請書!S20=TRUE,\"■\",\"□\")","v":"□"},"床丹地区会館"]
[null,null,null,{"$f":"IF(申請書!Q21=TRUE,\"■\",\"□\")","v":"□"},"双河辺生活館",null,null,null,null,{"$f":"IF(申請書!S21=TRUE,\"■\",\"□\")","v":"□"},"とおや交流館108"]
[null,null,"セチリ地区",{"$f":"IF(申請書!Q22=TRUE,\"■\",\"□\")","v":"□"},"釧路町コミュニティセンター",null,null,null,null,{"$f":"IF(申請書!S22=TRUE,\"■\",\"□\")","v":"□"},"東遠野ふれあいセンター"]
[null,null,null,{"$f":"IF(申請書!Q23=TRUE,\"■\",\"□\")","v":"□"},"桂地区会館",null,null,null,"昆布森地区",{"$f":"IF(申請書!S23=TRUE,\"■\",\"□\")","v":"□"},"昆布森福祉センター"]
[null,null,null,{"$f":"IF(申請書!Q24=TRUE,\"■\",\"□\")","v":"□"},"国誉地区会館",null,null,null,null,{"$f":"IF(申請書!S24=TRUE,\"■\",\"□\")","v":"□"},"老者舞地区会館"]
[null,null,null,{"$f":"IF(申請書!Q25=TRUE,\"■\",\"□\")","v":"□"},"北見団地地区会館",null,null,null,null,{"$f":"IF(申請書!S25=TRUE,\"■\",\"□\")","v":"□"},"海鳴り仙鳳趾館"]
[null,null,null,{"$f":"IF(申請書!Q26=TRUE,\"■\",\"□\")","v":"□"},"曙地区会館",null,null,null,null,{"$f":"IF(申請書!S26=TRUE,\"■\",\"□\")","v":"□"},"釧路町漁民センター"]
[null,null,null,{"$f":"IF(申請書!Q27=TRUE,\"■\",\"□\")","v":"□"},"北都地区会館",null,null,null,null,{"$f":"IF(申請書!S27=TRUE,\"■\",\"□\")","v":"□"},"知方学生活改善センター"]
[null,null,null,{"$f":"IF(申請書!Q28=TRUE,\"■\",\"□\")","v":"□"},"誉会館"]
[null,null,null,{"$f":"IF(申請書!Q29=TRUE,\"■\",\"□\")","v":"□"},"富原大通会館"]
["※使用室名",null,{"$f":"IF(申請書!Q30=TRUE,\"■\",\"□\")","v":"□"},"大会 議室（コミュニティホール）",null,null,null,{"$f":"IF(申請書!S30=TRUE,\"■\",\"□\")","v":"□"},"ステージ",null,null,{"$f":"IF(申請書!U30=TRUE,\"■\",\"□\")","v":"□"},"作業室"]
[null,null,{"$f":"IF(申請書!Q31=TRUE,\"■\",\"□\")","v":"□"},"小会 議室（A・B）",null,null,null,{"$f":"IF(申請書!S31=TRUE,\"■\",\"□\")","v":"□"},"談話室",null,null,{"$f":"IF(申請書!U31=TRUE,\"■\",\"□\")","v":"□"},"その他"]
[null,null,{"$f":"IF(申請書!Q32=TRUE,\"■\",\"□\")","v":"□"},"研  修  室（A・B・C）",null,null,null,{"$f":"IF(申請書!S32=TRUE,\"■\",\"□\")","v":"□"},"調理（実習）室",null,null,null,"（　　     　　）"]
[null,null,{"$f":"IF(申請書!Q33=TRUE,\"■\",\"□\")","v":"□"},"和       室（A・B）",null,null,null,{"$f":"IF(申請書!S33=TRUE,\"■\",\"□\")","v":"□"},"婦人研修室",null,null,{"$f":"IF(申請書!U33=TRUE,\"■\",\"□\")","v":"□"},"全館"]
[null,null,{"$f":"IF(申請書!Q34=TRUE,\"■\",\"□\")","v":"□"},"集  会  室（A・B）",null,null,null,{"$f":"IF(申請書!S34=TRUE,\"■\",\"□\")","v":"□"},"老人室"]
["※使用\n   備品",null,"物　　品",null,null,{"$f":"入力画面!F34","v":"机　脚・椅子　脚・放送設備・その他（　　　）"}]
[]
[null,null,"体育用具",null,null,{"$f":"入力画面!F36","v":"バレー用具・バドミントン用具・卓球用具・その他（　　　）"}]
[]
["使用料金",null,"大会議室・集会室",null,null,"和室・研修室",null,"その他（小会議室・調理室等）",null,null,null,null,"合計"]
[]
[]
[]
[]
["備考",null,{"$f":"入力画面!C43","v":0}]

{"sheet":"料金表","index":3,"n_rows":110,"n_cols":18,"rows_kept":110,"cut":false,"hidden":false,"merged":[[105,0,107,0],[105,11,107,11],[109,0,109,18],[96,0,100,0],[96,11,100,11],[97,5,97,8],[97,14,97,17],[101,0,104,0],[101,11,104,11],[82,0,85,0],[82,11,85,11],[86,0,90,0],[86,11,90,11],[91,0,95,0],[91,11,95,11],[71,0,74,0],[71,11,74,11],[75,0,77,0],[75,11,77,11],[78,0,81,0],[78,11,81,11],[57,0,64,0],[57,11,64,11],[58,5,58,8],[58,14,58,17],[65,0,70,0],[65,11,70,11],[45,0,48,0],[45,11,48,11],[49,0,52,0],[49,11,52,11],[53,0,56,0],[53,11,56,11],[37,0,41,0],[37,11,41,11],[38,5,38,8],[38,14,38,17],[42,0,44,0],[42,11,44,11],[25,14,25,17],[26,0,30,0],[26,11,30,11],[31,0,33,0],[31,11,33,11],[34,0,36,0],[34,11,36,11],[17,0,19,0],[17,11,19,11],[20,0,23,0],[20,11,23,11],[24,0,25,0],[24,11,25,11],[25,5,25,8],[4,0,10,0],[4,11,10,11],[5,5,5,8],[5,14,5,17],[11,0,16,0],[11,11,16,11],[14,5,14,8],[14,14,14,17],[1,0,3,0],[1,1,3,1],[1,2,3,2],[1,3,3,3],[1,5,1,17],[2,5,2,11],[2,14,2,17]]}
["釧路町コミュニティ施設使用料"]
["施設名","室種別","面積","畳換算",null,"使用料（令和元年10月1日より）"]
[null,null,null,null,null,"町内",null,null,null,null,null,null,null,null,"町外"]
[null,null,null,null,null,"夏期\n使用料",null,null,"冬期\n使用料",null,null,"冠婚葬祭\n使用料",null,null,"夏期\n使用料",null,null,"冬期\n使用料"]
["釧路町\nｺﾐｭﾆﾃｨｾﾝﾀｰ","大会議室",450,{"$f":"ROUNDDOWN(C5/1.65,0)","v":272},null,1740,null,null,2030,null,null,66000,null,null,3480,null,null,4060]
[null,"ｽﾃｰｼﾞ",79,{"$f":"ROUNDDOWN(C6/1.65,0)","v":47},null,"大会議室使用に含む",null,null,null,null,null,null,null,null,{"$f":"F6","v":"大会議室使用に含む"}]
[null,"小会議室Ａ",71,{"$f":"ROUNDDOWN(C7/1.65,0)","v":43},null,240,null,null,280,null,null,null,null,null,{"$f":"F7*2","v":480},null,null,{"$f":"I7*2","v":560}]
[null,"小会議室Ｂ",71,43,null,240,null,null,280,null,null,null,null,null,{"$f":"F8*2","v":480},null,null,{"$f":"I8*2","v":560}]
[null,"研修室Ａ",35,21,null,160,null,null,190,null,null,null,null,null,320,null,null,380]
[null,"研修室Ｂ",77,46,null,660,null,null,770,null,null,null,null,null,1320,null,null,1540]
[null,"調理実習室",81,49,null,660,null,null,770,null,null,null,null,null,1320,null,null,1540]
["別保\nｺﾐｭﾆﾃｨｾﾝﾀｰ","第1研修室",35,21,null,160,null,null,190,null,null,44000,null,null,320,null,null,380]
[null,"第2研修室",32,{"$f":"ROUNDDOWN(C13/1.65,0)","v":19},null,160,null,null,190,null,null,null,null,null,320,null,null,380]
[null,"ｺﾐｭﾆﾃｨﾎｰﾙ",194,{"$f":"ROUNDDOWN(C14/1.65,0)","v":117},null,1740,null,null,2030,null,null,null,null,null,3480,null,null,4060]
[null,"ｽﾃｰｼﾞ",30,{"$f":"ROUNDDOWN(C15/1.65,0)","v":18},null,"ｺﾐｭﾆﾃｨﾎｰﾙ使用に含む",null,null,null,null,null,null,null,null,{"$f":"F15","v":"ｺﾐｭﾆﾃｨﾎｰﾙ使用に含む"}]
[null,"談話室",42,25,null,160,null,null,190,null,null,null,null,null,{"$f":"F16*2","v":320},null,null,{"$f":"I16*2","v":380}]
[null,"調理実習室",40,24,null,160,null,null,190,null,null,null,null,null,320,null,null,380]
["天寧\nｺﾐｭﾆﾃｨｾﾝﾀｰ","集会室",144,87,null,460,null,null,560,null,null,11000,null,null,920,null,null,1120]
[null,"和室",35,21,null,150,null,null,190,null,null,null,null,null,300,null,null,380]
[null,"調理実習室",21,12,null,70,null,null,90,null,null,null,null,null,140,null,null,180]
["昆布森\n福祉ｾﾝﾀｰ","老人室",26,15,null,70,null,null,90,null,null,null,null,null,140,null,null,180]
[null,"研修室",32,19,null,150,null,null,190,null,null,null,null,null,300,null,null,380]
[null,"婦人研修室",37,22,null,150,null,null,190,null,null,null,null,null,300,null,null,380]
[null,"調理実習室",38,23,null,150,null,null,190,null,null,null,null,null,300,null,null,380]
["釧路町\n漁民ｾﾝﾀｰ","大会議室",368,223,null,1740,null,null,2030,null,null,44000,null,null,3480,null,null,4060]
[null,"ｽﾃｰｼﾞ",46,27,null,"大会議室使用に含む",null,null,null,null,null,null,null,null,{"$f":"F26","v":"大会議室使用に含む"}]
["日の出\n会館","集会室",196,118,null,460,null,null,560,null,null,11000,null,null,{"$f":"F27*2","v":920},null,null,{"$f":"I27*2","v":1120}]
[null,"和室（大）",21,12,null,70,null,null,90,null,null,null,null,null,140,null,null,180]
[null,"和室（小）",16,9,null,70,null,null,90,null,null,null,null,null,140,null,null,180]
[null,"会議室",15,9,null,70,null,null,90,null,null,null,null,null,140,null,null,180]
[null,"調理室",18,10,null,70,null,null,90,null,null,null,null,null,140,null,null,180]
["双河辺\n生活館","集会室",83,50,null,230,null,null,280,null,null,5500,null,null,460,null,null,560]
[null,"和室",24,14,null,70,null,null,90,null,null,null,null,null,140,null,null,180]
[null,"調理実習室",15,9,null,70,null,null,90,null,null,null,null,null,140,null,null,180]
["栄町団地\n集会所","集会室",78,47,null,230,null,null,280,null,null,5500,null,null,460,null,null,560]
[null,"小会議室",13,7,null,70,null,null,90,null,null,null,null,null,140,null,null,180]
[null,"調理室",16,9,null,70,null,null,90,null,null,null,null,null,140,null,null,180]
["桂\n地区会館","大研修室",169,102,null,460,null,null,560,null,null,11000,null,null,920,null,null,1120]
[null,"ｽﾃｰｼﾞ",41,24,null,"大研修室使用に含む",null,null,null,null,null,null,null,null,{"$f":"F39","v":"大研修室使用に含む"}]
[null,"和室",18,10,null,70,null,null,90,null,null,null,null,null,{"$f":"F40*2","v":140},null,null,{"$f":"I40*2","v":180}]
[null,"小研修室",12,7,null,70,null,null,90,null,null,null,null,null,140,null,null,180]
[null,"調理実習室",26,15,null,70,null,null,90,null,null,null,null,null,140,null,null,180]
["国誉\n地区会館","集会室",55,33,null,150,null,null,190,null,null,5500,null,null,300,null,null,380]
[null,"和室",20,12,null,70,null,null,90,null,null,null,null,null,140,null,null,180]
[null,"調理実習室",13,7,null,70,null,null,90,null,null,null,null,null,140,null,null,180]
["北見団地\n地区会館","集会室",55,33,null,150,null,null,190,null,null,5500,null,null,300,null,null,380]
[null,"和室",20,12,null,70,null,null,90,null,null,null,null,null,140,null,null,180]
[null,"会議室",35,21,null,150,null,null,190,null,null,null,null,null,300,null,null,380]
[null,"調理室",13,7,null,70,null,null,90,null,null,null,null,null,140,null,null,180]
["曙\n地区会館","集会室",70,42,null,230,null,null,280,null,null,5500,null,null,460,null,null,560]
[null,"和室1",20,12,null,70,null,null,90,null,null,null,null,null,140,null,null,180]
[null,"和室2",17,10,null,70,null,null,90,null,null,null,null,null,140,null,null,180]
[null,"調理室",21,12,null,70,null,null,90,null,null,null,null,null,140,null,null,180]
["北都\n地区会館","集会室",89,53,null,310,null,null,370,null,null,11000,null,null,620,null,null,740]
[null,"和室1",20,12,null,70,null,null,90,null,null,null,null,null,140,null,null,180]
[null,"和室2",17,10,null,70,null,null,90,null,null,null,null,null,140,null,null,180]
[null,"調理室",21,12,null,70,null,null,90,null,null,null,null,null,140,null,null,180]
["誉会館","集会室",134,81,null,460,null,null,560,null,null,11000,null,null,920,null,null,1120]
[null,"ｽﾃｰｼﾞ",36,21,null,"集会室使用に含む",null,null,null,null,null,null,null,null,{"$f":"F59","v":"集会室使用に含む"}]
[null,"作業室",27,16,null,70,null,null,90,null,null,null,null,null,{"$f":"F60*2","v":140},null,null,{"$f":"I60*2","v":180}]
[null,"研修室Ａ",22,13,null,70,null,null,90,null,null,null,null,null,140,null,null,180]
[null,"研修室Ｂ",22,13,null,70,null,null,90,null,null,null,null,null,140,null,null,180]
[null,"研修室Ｃ",33,20,null,150,null,null,190,null,null,null,null,null,300,null,null,380]
[null,"相談室",15,9,null,70,null,null,90,null,null,null,null,null,140,null,null,180]
[null,"調理実習室",23,13,null,70,null,null,90,null,null,null,null,null,140,null,null,180]
["富原\n大通会館","集会室Ａ",75,45,null,230,null,null,280,null,null,11000,null,null,460,null,null,560]
[null,"集会室Ｂ",60,36,null,230,null,null,280,null,null,null,null,null,460,null,null,560]
[null,"研修室",27,16,null,70,null,null,90,null,null,null,null,null,140,null,null,180]
[null,"和室Ａ",20,12,null,70,null,null,90,null,null,null,null,null,140,null,null,180]
[null,"和室Ｂ",16,9,null,70,null,null,90,null,null,null,null,null,140,null,null,180]
[null,"調理実習室",32,19,null,150,null,null,190,null,null,null,null,null,300,null,null,380]
["河畔\n地区会館","集会室",148,89,null,460,null,null,560,null,null,11000,null,null,920,null,null,1120]
[null,"和室1",17,10,null,70,null,null,90,null,null,null,null,null,140,null,null,180]
[null,"和室2",20,12,null,70,null,null,90,null,null,null,null,null,140,null,null,180]
[null,"調理室",20,12,null,70,null,null,90,null,null,null,null,null,140,null,null,180]
["鳥通地区会館","集会室",55,33,null,150,null,null,190,null,null,5500,null,null,300,null,null,380]
[null,"和室",20,12,null,70,null,null,90,null,null,null,null,null,140,null,null,180]
[null,"調理室",13,7,null,70,null,null,90,null,null,null,null,null,140,null,null,180]
["柏\n地区会館","集会室",70,{"$f":"ROUNDDOWN(C79/1.65,0)","v":42},null,230,null,null,280,null,null,5500,null,null,460,null,null,560]
[null,"研修室1",20,12,null,70,null,null,90,null,null,null,null,null,140,null,null,180]
[null,"研修室2",17,10,null,70,null,null,90,null,null,null,null,null,140,null,null,180]
[null,"調理室",21,12,null,70,null,null,90,null,null,null,null,null,140,null,null,180]
["床丹\n地区会館","集会室",89,53,null,310,null,null,370,null,null,11000,null,null,620,null,null,740]
[null,"研修室1",17,10,null,70,null,null,90,null,null,null,null,null,140,null,null,180]
[null,"研修室2",13,7,null,70,null,null,90,null,null,null,null,null,140,null,null,180]
[null,"調理室",21,12,null,70,null,null,90,null,null,null,null,null,140,null,null,180]
["とおや\n交流館108","集会室Ａ",65,39,null,230,null,null,280,null,null,11000,null,null,460,null,null,560]
[null,"集会室Ｂ",49,29,null,150,null,null,190,null,null,null,null,null,300,null,null,380]
[null,"和室Ａ",24,14,null,70,null,null,90,null,null,null,null,null,140,null,null,180]
[null,"和室Ｂ",26,15,null,70,null,null,90,null,null,null,null,null,140,null,null,180]
[null,"調理実習室",28,16,null,70,null,null,90,null,null,null,null,null,140,null,null,180]
["東遠野\nふれあいｾﾝﾀｰ","多目的室",88,53,null,310,null,null,370,null,null,11000,null,null,620,null,null,740]
[null,"生活改善室",13,7,null,70,null,null,90,null,null,null,null,null,140,null,null,180]
[null,"和室",21,12,null,70,null,null,90,null,null,null,null,null,140,null,null,180]
[null,"健康管理室",14,8,null,70,null,null,90,null,null,null,null,null,140,null,null,180]
[null,"調理室",24,14,null,70,null,null,90,null,null,null,null,null,140,null,null,180]
["老者舞\n地区会館","大研修室",112,67,null,460,null,null,560,null,null,11000,null,null,920,null,null,1120]
[null,"ｽﾃｰｼﾞ",39,23,null,"大研修室使用に含む",null,null,null,null,null,null,null,null,{"$f":"F98","v":"大研修室使用に含む"}]
[null,"和室",22,13,null,70,null,null,90,null,null,null,null,null,{"$f":"F99*2","v":140},null,null,{"$f":"I99*2","v":180}]
[null,"小研修室",23,13,null,70,null,null,90,null,null,null,null,null,140,null,null,180]
[null,"調理実習室",37,22,null,150,null,null,190,null,null,null,null,null,300,null,null,380]
["海鳴り\n仙鳳趾館","大会議室",89,53,null,310,null,null,370,null,null,11000,null,null,620,null,null,740]
[null,"中会議室（1）",21,12,null,70,null,null,90,null,null,null,null,null,140,null,null,180]
[null,"中会議室（2）",21,12,null,70,null,null,90,null,null,null,null,null,140,null,null,180]
[null,"調理室",60,36,null,230,null,null,280,null,null,null,null,null,460,null,null,560]
["知方学\n生活改善ｾﾝﾀｰ","第1研修室",45,27,null,150,null,null,190,null,null,5500,null,null,300,null,null,380]
[null,"第2研修室",27,16,null,70,null,null,90,null,null,null,null,null,140,null,null,180]
[null,"調理実習室",25,15,null,70,null,null,90,null,null,null,null,null,140,null,null,180]
[]
["１）料金は電気・暖房等の実費額を含んでいます。\n２）夏期料金期間は６月１日から９月３０日まで、冬期料金期間は１０月１日から５月３１日まで。\n３）減額団体に該当する場合は、上記使用料の半額となります。"]